BEGIN:VCALENDAR
VERSION:2.0
PRODID:-//Stade’s Farm &amp; Market - ECPv6.15.20//NONSGML v1.0//EN
CALSCALE:GREGORIAN
METHOD:PUBLISH
X-ORIGINAL-URL:https://stadesfarmandmarket.com
X-WR-CALDESC:Events for Stade’s Farm &amp; Market
REFRESH-INTERVAL;VALUE=DURATION:PT1H
X-Robots-Tag:noindex
X-PUBLISHED-TTL:PT1H
BEGIN:VTIMEZONE
TZID:UTC
BEGIN:STANDARD
TZOFFSETFROM:+0000
TZOFFSETTO:+0000
TZNAME:UTC
DTSTART:20210101T000000
END:STANDARD
END:VTIMEZONE
BEGIN:VEVENT
DTSTART;VALUE=DATE:20221014
DTEND;VALUE=DATE:20221015
DTSTAMP:20260423T093710
CREATED:20220208T185613Z
LAST-MODIFIED:20220208T190752Z
UID:4999-1665705600-1665791999@stadesfarmandmarket.com
SUMMARY:Shades of Autumn Fall Festival 2022
DESCRIPTION:Shades of Autumn 2022 is eight weekends of family fun beginning on Saturday\, September 10\, 2022\, through Sunday\, October 30\, 2022. We added several new attractions last year and have surprises for you this year as well! There is something for everyone to enjoy during our fall festival season. If you want to come and enjoy the music and the market\, those are open to the public for free.  Shade’s of Autumn offers you family fun\, pick your own pumpkins\, fresh produce\, a petting zoo\, apple cider donuts\, a bakery\, our Farmtractions Theme Park\, and much more.  View more information on our fall festival here.  Follow our Facebook page for our most recent updates.
URL:https://stadesfarmandmarket.com/event/shades-of-autumn-2022-10-14/
END:VEVENT
BEGIN:VEVENT
DTSTART;VALUE=DATE:20221015
DTEND;VALUE=DATE:20221016
DTSTAMP:20260423T093710
CREATED:20211216T162414Z
LAST-MODIFIED:20211216T162414Z
UID:4963-1665792000-1665878399@stadesfarmandmarket.com
SUMMARY:Shades of Autumn Fall Festival 2022
DESCRIPTION:Shades of Autumn 2022 is eight weekends of family fun beginning on Saturday\, September 10\, 2022\, through Sunday\, October 30\, 2022. We added several new attractions last year and have surprises for you this year as well! There is something for everyone to enjoy during our fall festival season. If you want to come and enjoy the music and the market\, those are open to the public for free.  Shade’s of Autumn offers you family fun\, pick your own pumpkins\, fresh produce\, a petting zoo\, apple cider donuts\, a bakery\, our Farmtractions Theme Park\, and much more.  View more information on our fall festival here.  Follow our Facebook page for our most recent updates.
URL:https://stadesfarmandmarket.com/event/shades-of-autumn-2022-10-15/
END:VEVENT
BEGIN:VEVENT
DTSTART;VALUE=DATE:20221016
DTEND;VALUE=DATE:20221017
DTSTAMP:20260423T093710
CREATED:20211216T162349Z
LAST-MODIFIED:20211216T162349Z
UID:4965-1665878400-1665964799@stadesfarmandmarket.com
SUMMARY:Shades of Autumn Fall Festival 2022
DESCRIPTION:Shades of Autumn 2022 is eight weekends of family fun beginning on Saturday\, September 10\, 2022\, through Sunday\, October 30\, 2022. We added several new attractions last year and have surprises for you this year as well! There is something for everyone to enjoy during our fall festival season. If you want to come and enjoy the music and the market\, those are open to the public for free.  Shade’s of Autumn offers you family fun\, pick your own pumpkins\, fresh produce\, a petting zoo\, apple cider donuts\, a bakery\, our Farmtractions Theme Park\, and much more.  View more information on our fall festival here.  Follow our Facebook page for our most recent updates.
URL:https://stadesfarmandmarket.com/event/shades-of-autumn-2022-10-16/
END:VEVENT
BEGIN:VEVENT
DTSTART;VALUE=DATE:20221021
DTEND;VALUE=DATE:20221022
DTSTAMP:20260423T093710
CREATED:20220208T185903Z
LAST-MODIFIED:20220208T190611Z
UID:5001-1666310400-1666396799@stadesfarmandmarket.com
SUMMARY:Shades of Autumn Fall Festival 2022
DESCRIPTION:Shades of Autumn 2022 is eight weekends of family fun beginning on Saturday\, September 10\, 2022\, through Sunday\, October 30\, 2022. We added several new attractions last year and have surprises for you this year as well! There is something for everyone to enjoy during our fall festival season. If you want to come and enjoy the music and the market\, those are open to the public for free.  Shade’s of Autumn offers you family fun\, pick your own pumpkins\, fresh produce\, a petting zoo\, apple cider donuts\, a bakery\, our Farmtractions Theme Park\, and much more.  View more information on our fall festival here.  Follow our Facebook page for our most recent updates.
URL:https://stadesfarmandmarket.com/event/shades-of-autumn-2022-10-21/
END:VEVENT
BEGIN:VEVENT
DTSTART;VALUE=DATE:20221022
DTEND;VALUE=DATE:20221023
DTSTAMP:20260423T093710
CREATED:20211216T162319Z
LAST-MODIFIED:20211216T162319Z
UID:4967-1666396800-1666483199@stadesfarmandmarket.com
SUMMARY:Shades of Autumn Fall Festival 2022
DESCRIPTION:Shades of Autumn 2022 is eight weekends of family fun beginning on Saturday\, September 10\, 2022\, through Sunday\, October 30\, 2022. We added several new attractions last year and have surprises for you this year as well! There is something for everyone to enjoy during our fall festival season. If you want to come and enjoy the music and the market\, those are open to the public for free.  Shade’s of Autumn offers you family fun\, pick your own pumpkins\, fresh produce\, a petting zoo\, apple cider donuts\, a bakery\, our Farmtractions Theme Park\, and much more.  View more information on our fall festival here.  Follow our Facebook page for our most recent updates.
URL:https://stadesfarmandmarket.com/event/shades-of-autumn-fall-festival-2022/
END:VEVENT
BEGIN:VEVENT
DTSTART;VALUE=DATE:20221023
DTEND;VALUE=DATE:20221024
DTSTAMP:20260423T093710
CREATED:20211216T162248Z
LAST-MODIFIED:20211216T162248Z
UID:4969-1666483200-1666569599@stadesfarmandmarket.com
SUMMARY:Shades of Autumn Fall Festival 2022
DESCRIPTION:Shades of Autumn 2022 is eight weekends of family fun beginning on Saturday\, September 10\, 2022\, through Sunday\, October 30\, 2022. We added several new attractions last year and have surprises for you this year as well! There is something for everyone to enjoy during our fall festival season. If you want to come and enjoy the music and the market\, those are open to the public for free.  Shade’s of Autumn offers you family fun\, pick your own pumpkins\, fresh produce\, a petting zoo\, apple cider donuts\, a bakery\, our Farmtractions Theme Park\, and much more.  View more information on our fall festival here.  Follow our Facebook page for our most recent updates.
URL:https://stadesfarmandmarket.com/event/shades-of-autumn-2022-10-23/
END:VEVENT
BEGIN:VEVENT
DTSTART;VALUE=DATE:20221028
DTEND;VALUE=DATE:20221029
DTSTAMP:20260423T093710
CREATED:20220208T190205Z
LAST-MODIFIED:20220208T190721Z
UID:5003-1666915200-1667001599@stadesfarmandmarket.com
SUMMARY:Shades of Autumn Fall Festival 2022
DESCRIPTION:Shades of Autumn 2022 is eight weekends of family fun beginning on Saturday\, September 10\, 2022\, through Sunday\, October 30\, 2022. We added several new attractions last year and have surprises for you this year as well! There is something for everyone to enjoy during our fall festival season. If you want to come and enjoy the music and the market\, those are open to the public for free.  Shade’s of Autumn offers you family fun\, pick your own pumpkins\, fresh produce\, a petting zoo\, apple cider donuts\, a bakery\, our Farmtractions Theme Park\, and much more.  View more information on our fall festival here.  Follow our Facebook page for our most recent updates.
URL:https://stadesfarmandmarket.com/event/shades-of-autumn-2022-10-28/
END:VEVENT
BEGIN:VEVENT
DTSTART;VALUE=DATE:20221029
DTEND;VALUE=DATE:20221030
DTSTAMP:20260423T093710
CREATED:20211216T162220Z
LAST-MODIFIED:20211216T162220Z
UID:4971-1667001600-1667087999@stadesfarmandmarket.com
SUMMARY:Shades of Autumn Fall Festival 2022
DESCRIPTION:Shades of Autumn 2022 is eight weekends of family fun beginning on Saturday\, September 10\, 2022\, through Sunday\, October 30\, 2022. We added several new attractions last year and have surprises for you this year as well! There is something for everyone to enjoy during our fall festival season. If you want to come and enjoy the music and the market\, those are open to the public for free.  Shade’s of Autumn offers you family fun\, pick your own pumpkins\, fresh produce\, a petting zoo\, apple cider donuts\, a bakery\, our Farmtractions Theme Park\, and much more.  View more information on our fall festival here.  Follow our Facebook page for our most recent updates.
URL:https://stadesfarmandmarket.com/event/shades-of-autumn-2022-10-29/
END:VEVENT
BEGIN:VEVENT
DTSTART;VALUE=DATE:20221030
DTEND;VALUE=DATE:20221031
DTSTAMP:20260423T093710
CREATED:20211216T162156Z
LAST-MODIFIED:20211216T162156Z
UID:4973-1667088000-1667174399@stadesfarmandmarket.com
SUMMARY:Shades of Autumn Fall Festival 2022
DESCRIPTION:Shades of Autumn 2022 is eight weekends of family fun beginning on Saturday\, September 10\, 2022\, through Sunday\, October 30\, 2022. We added several new attractions last year and have surprises for you this year as well! There is something for everyone to enjoy during our fall festival season. If you want to come and enjoy the music and the market\, those are open to the public for free.  Shade’s of Autumn offers you family fun\, pick your own pumpkins\, fresh produce\, a petting zoo\, apple cider donuts\, a bakery\, our Farmtractions Theme Park\, and much more.  View more information on our fall festival here.  Follow our Facebook page for our most recent updates.
URL:https://stadesfarmandmarket.com/event/shades-of-autumn-2022-10-30/
END:VEVENT
BEGIN:VEVENT
DTSTART;TZID=UTC:20230527T090000
DTEND;TZID=UTC:20230527T180000
DTSTAMP:20260423T093710
CREATED:20230512T153711Z
LAST-MODIFIED:20230512T153711Z
UID:5365-1685178000-1685210400@stadesfarmandmarket.com
SUMMARY:Stade's Farm Market Opening Weekend!
DESCRIPTION:Please join us for opening weekend!  Receive one of our famous Apple Cider Donuts FREE! (limit one per person)  Come grab all of your favorites; asparagus\, meat\, eggs\, canned items\, baked goods (apple cider donuts!)\, gourmet foods\, unique gift items\, and more! \nOur doors will open at 9 am. \nMarket hours are 9 am – 6 pm\, daily.
URL:https://stadesfarmandmarket.com/event/stades-farm-market-opening-weekend-5/
END:VEVENT
BEGIN:VEVENT
DTSTART;TZID=UTC:20230528T090000
DTEND;TZID=UTC:20230528T180000
DTSTAMP:20260423T093710
CREATED:20230512T153825Z
LAST-MODIFIED:20230516T142340Z
UID:5367-1685264400-1685296800@stadesfarmandmarket.com
SUMMARY:Opening Weekend at Stade's Farm Market
DESCRIPTION:Please join us for opening weekend!  Receive one of our famous Apple Cider Donuts FREE! (limit one per person)  Come grab all of your favorites; asparagus\, meat\, eggs\, canned items\, baked goods (apple cider donuts!)\, gourmet foods\, unique gift items\, and more! \nOur doors will open at 9 am. \nMarket hours are 9 am – 6 pm\, daily.
URL:https://stadesfarmandmarket.com/event/opening-weekend-at-stades-farm-market/
END:VEVENT
BEGIN:VEVENT
DTSTART;TZID=UTC:20230902T100000
DTEND;TZID=UTC:20230902T180000
DTSTAMP:20260423T093710
CREATED:20230815T200524Z
LAST-MODIFIED:20230815T200524Z
UID:5447-1693648800-1693677600@stadesfarmandmarket.com
SUMMARY:Shades of Autumn Opening Weekend 2023
DESCRIPTION:Shades of Autumn 2023 is nine weekends of family fun beginning on Saturday\, September 2\, 2023\, through Sunday\, October 29\, 2023. We added several new attractions this year including new construction zone sand toys and a crank tractor.  There is something for everyone to enjoy during our fall festival season. If you want to come and enjoy the music and the market\, those are open to the public for free.  Shades of Autumn offers you family fun\, pick your own pumpkins\, fresh produce\, a petting zoo\, apple cider donuts\, a bakery\, our Farmtractions Theme Park\, and much more.  View more information on our fall festival here.  Follow our Facebook page for our most recent updates. \n 
URL:https://stadesfarmandmarket.com/event/shades-of-autumn-opening-weekend-2023/
END:VEVENT
BEGIN:VEVENT
DTSTART;TZID=UTC:20230903T100000
DTEND;TZID=UTC:20230903T180000
DTSTAMP:20260423T093710
CREATED:20230815T200706Z
LAST-MODIFIED:20230815T200706Z
UID:5449-1693735200-1693764000@stadesfarmandmarket.com
SUMMARY:Shades of Autumn Opening Weekend
DESCRIPTION:Shades of Autumn 2023 is nine weekends of family fun beginning on Saturday\, September 2\, 2023\, through Sunday\, October 29\, 2023. We added several new attractions this year including new construction zone sand toys and a crank tractor.  There is something for everyone to enjoy during our fall festival season. If you want to come and enjoy the music and the market\, those are open to the public for free.  Shades of Autumn offers you family fun\, pick your own pumpkins\, fresh produce\, a petting zoo\, apple cider donuts\, a bakery\, our Farmtractions Theme Park\, and much more.  View more information on our fall festival here.  Follow our Facebook page for our most recent updates.
URL:https://stadesfarmandmarket.com/event/shades-of-autumn-opening-weekend/
END:VEVENT
BEGIN:VEVENT
DTSTART;TZID=UTC:20230909T100000
DTEND;TZID=UTC:20230909T180000
DTSTAMP:20260423T093710
CREATED:20230815T201256Z
LAST-MODIFIED:20230815T201256Z
UID:5451-1694253600-1694282400@stadesfarmandmarket.com
SUMMARY:Shades of Autumn Fall Festival & Arts & Crafts on the Farm Show
DESCRIPTION:Shades of Autumn 2023 is nine weekends of family fun beginning on Saturday\, September 2\, 2023\, through Sunday\, October 29\, 2023. We added several new attractions this year including new construction zone sand toys and a crank tractor.  There is something for everyone to enjoy during our fall festival season. If you want to come and enjoy the music and the market\, those are open to the public for free.  Shades of Autumn offers you family fun\, pick your own pumpkins\, fresh produce\, a petting zoo\, apple cider donuts\, a bakery\, our Farmtractions Theme Park\, and much more.  View more information on our fall festival here.  Follow our Facebook page for our most recent updates. \nSeptember 9th & 10th is our 9th annual Arts & Crafts on the Farm show.  There will be over 95 talented artists showcasing their work this year from 10 am – 5 pm on Saturday and 10 am – 4 pm on Sunday.
URL:https://stadesfarmandmarket.com/event/shades-of-autumn-fall-festival-arts-crafts-on-the-farm-show/
END:VEVENT
BEGIN:VEVENT
DTSTART;TZID=UTC:20230910T100000
DTEND;TZID=UTC:20230910T180000
DTSTAMP:20260423T093710
CREATED:20230815T201414Z
LAST-MODIFIED:20230815T201414Z
UID:5453-1694340000-1694368800@stadesfarmandmarket.com
SUMMARY:Shades of Autumn Fall Festival & Arts and Crafts on the Farm Show
DESCRIPTION:Shades of Autumn 2023 is nine weekends of family fun beginning on Saturday\, September 2\, 2023\, through Sunday\, October 29\, 2023. We added several new attractions this year including new construction zone sand toys and a crank tractor.  There is something for everyone to enjoy during our fall festival season. If you want to come and enjoy the music and the market\, those are open to the public for free.  Shades of Autumn offers you family fun\, pick your own pumpkins\, fresh produce\, a petting zoo\, apple cider donuts\, a bakery\, our Farmtractions Theme Park\, and much more.  View more information on our fall festival here.  Follow our Facebook page for our most recent updates. \nSeptember 9th & 10th is our 9th annual Arts & Crafts on the Farm show.  There will be over 95 talented artists showcasing their work this year from 10 am – 5 pm on Saturday and 10 am – 4 pm on Sunday.
URL:https://stadesfarmandmarket.com/event/shades-of-autumn-fall-festival-arts-and-crafts-on-the-farm-show/
END:VEVENT
BEGIN:VEVENT
DTSTART;TZID=UTC:20240525T090000
DTEND;TZID=UTC:20240525T180000
DTSTAMP:20260423T093710
CREATED:20240411T144124Z
LAST-MODIFIED:20240411T144124Z
UID:5541-1716627600-1716660000@stadesfarmandmarket.com
SUMMARY:Stade's Farm Market Opening Weekend!
DESCRIPTION:Please join us for our farm market’s opening weekend!  Receive one of our famous Apple Cider Donuts FREE! (limit one per person) \nIt’s time to restock all of your favorites and shop our in-season produce\, canned items\, baked goods\, beef\, eggs\, local honey\, gourmet food items\, specialty foods\, unique gift items\, and more! \nOur doors will open at 9 am. \nMarket hours are 9 am – 6 pm\, daily.
URL:https://stadesfarmandmarket.com/event/stades-farm-market-opening-weekend-6/
END:VEVENT
BEGIN:VEVENT
DTSTART;TZID=UTC:20240526T090000
DTEND;TZID=UTC:20240526T180000
DTSTAMP:20260423T093710
CREATED:20240411T144310Z
LAST-MODIFIED:20240411T144310Z
UID:5543-1716714000-1716746400@stadesfarmandmarket.com
SUMMARY:Stade's Farm Market Opening Weekend!
DESCRIPTION:Please join us for our farm market’s opening weekend!  Receive one of our famous Apple Cider Donuts FREE! (limit one per person) \nIt’s time to restock all of your favorites and shop our in-season produce\, canned items\, baked goods\, beef\, eggs\, local honey\, gourmet food items\, specialty foods\, unique gift items\, and more! \nOur doors will open at 9 am. \nMarket hours are 9 am – 6 pm\, daily.
URL:https://stadesfarmandmarket.com/event/stades-farm-market-opening-weekend-7/
END:VEVENT
BEGIN:VEVENT
DTSTART;TZID=UTC:20250524T090000
DTEND;TZID=UTC:20250524T180000
DTSTAMP:20260423T093710
CREATED:20250516T174921Z
LAST-MODIFIED:20250516T174921Z
UID:5740-1748077200-1748109600@stadesfarmandmarket.com
SUMMARY:Stade's Farm Market Opening Weekend!
DESCRIPTION:Join us Saturday\, May 24th for our opening weekend at Stade’s Farm & Market.  Enjoy a free apple cider donut (1 per customer) while shopping our farm market stocked with fresh produce\, baked goods\, gourmet foods\, specialty foods\, eggs\, beef\, honey\, unique gift items\, and much more!  Hours are 9 am – 6 pm daily through Halloween.
URL:https://stadesfarmandmarket.com/event/stades-farm-market-opening-weekend-8/
LOCATION:Stade’s Farm & Market
END:VEVENT
BEGIN:VEVENT
DTSTART;TZID=UTC:20250525T090000
DTEND;TZID=UTC:20250525T180000
DTSTAMP:20260423T093710
CREATED:20250516T175041Z
LAST-MODIFIED:20250516T175041Z
UID:5742-1748163600-1748196000@stadesfarmandmarket.com
SUMMARY:Stade's Farm Market Opening Weekend!
DESCRIPTION:Join us Saturday\, May 24th for our opening weekend at Stade’s Farm & Market.  Enjoy a free apple cider donut (1 per customer) while shopping our farm market stocked with fresh produce\, baked goods\, gourmet foods\, specialty foods\, eggs\, beef\, honey\, unique gift items\, and much more!  Hours are 9 am – 6 pm daily through Halloween.
URL:https://stadesfarmandmarket.com/event/stades-farm-market-opening-weekend-9/
LOCATION:Stade’s Farm & Market
END:VEVENT
END:VCALENDAR