BEGIN:VCALENDAR
VERSION:2.0
PRODID:-//Stade’s Farm &amp; Market - ECPv6.15.20//NONSGML v1.0//EN
CALSCALE:GREGORIAN
METHOD:PUBLISH
X-WR-CALNAME:Stade’s Farm &amp; Market
X-ORIGINAL-URL:https://stadesfarmandmarket.com
X-WR-CALDESC:Events for Stade’s Farm &amp; Market
REFRESH-INTERVAL;VALUE=DURATION:PT1H
X-Robots-Tag:noindex
X-PUBLISHED-TTL:PT1H
BEGIN:VTIMEZONE
TZID:UTC
BEGIN:STANDARD
TZOFFSETFROM:+0000
TZOFFSETTO:+0000
TZNAME:UTC
DTSTART:20200101T000000
END:STANDARD
END:VTIMEZONE
BEGIN:VEVENT
DTSTART;VALUE=DATE:20211016
DTEND;VALUE=DATE:20211017
DTSTAMP:20260423T061758
CREATED:20200802T055750Z
LAST-MODIFIED:20210226T191144Z
UID:3348-1634342400-1634428799@stadesfarmandmarket.com
SUMMARY:Shades of Autumn Fall Festival 2021
DESCRIPTION:Shades of Autumn 2021 is eight weekends of family fun beginning on Saturday\, September 11\, 2021\, through Sunday\, October 31\, 2021. We added several new attractions last year and have surprises for you this year as well! There is something for everyone to enjoy during our fall festival season. If you want to come and enjoy the music and the market\, those are open to the public for free.  Shade’s of Autumn offers you family fun\, pick your own pumpkins\, fresh produce\, a petting zoo\, apple cider donuts\, a bakery\, our Farmtractions Theme Park\, and much more.  View more information on our fall festival here.  Follow our Facebook page for our most recent updates.
URL:https://stadesfarmandmarket.com/event/shades-of-autumn-2021-oct-16/
END:VEVENT
BEGIN:VEVENT
DTSTART;VALUE=DATE:20211015
DTEND;VALUE=DATE:20211016
DTSTAMP:20260423T061758
CREATED:20210308T203714Z
LAST-MODIFIED:20210308T204123Z
UID:4407-1634256000-1634342399@stadesfarmandmarket.com
SUMMARY:Shades of Autumn Fall Festival 2021
DESCRIPTION:Shades of Autumn 2021 is eight weekends of family fun beginning on Saturday\, September 11\, 2021\, through Sunday\, October 31\, 2021. We added several new attractions last year and have surprises for you this year as well! There is something for everyone to enjoy during our fall festival season. If you want to come and enjoy the music and the market\, those are open to the public for free.  Shade’s of Autumn offers you family fun\, pick your own pumpkins\, fresh produce\, a petting zoo\, apple cider donuts\, a bakery\, our Farmtractions Theme Park\, and much more.  View more information on our fall festival here.  Follow our Facebook page for our most recent updates.
URL:https://stadesfarmandmarket.com/event/shades-of-autumn-2021-oct-15/
END:VEVENT
BEGIN:VEVENT
DTSTART;VALUE=DATE:20211011
DTEND;VALUE=DATE:20211012
DTSTAMP:20260423T061758
CREATED:20200802T070331Z
LAST-MODIFIED:20210226T185421Z
UID:3370-1633910400-1633996799@stadesfarmandmarket.com
SUMMARY:Shades of Autumn 2021 Fall Festival (Columbus Day)
DESCRIPTION:Shades of Autumn 2021 is eight weekends of family fun beginning on Saturday\, September 11\, 2021\, through Sunday\, October 31\, 2021. We added several new attractions last year and have surprises for you this year as well! There is something for everyone to enjoy during our fall festival season. If you want to come and enjoy the music and the market\, those are open to the public for free.  Shade’s of Autumn offers you family fun\, pick your own pumpkins\, fresh produce\, a petting zoo\, apple cider donuts\, a bakery\, our Farmtractions Theme Park\, and much more.  View more information on our fall festival here.  Follow our Facebook page for our most recent updates.
URL:https://stadesfarmandmarket.com/event/shades-of-autumn-2021-columbus-day/
END:VEVENT
BEGIN:VEVENT
DTSTART;VALUE=DATE:20211010
DTEND;VALUE=DATE:20211011
DTSTAMP:20260423T061758
CREATED:20200802T070328Z
LAST-MODIFIED:20210226T191332Z
UID:3369-1633824000-1633910399@stadesfarmandmarket.com
SUMMARY:Shades of Autumn Fall Festival 2021
DESCRIPTION:Shades of Autumn 2021 is eight weekends of family fun beginning on Saturday\, September 11\, 2021\, through Sunday\, October 31\, 2021. We added several new attractions last year and have surprises for you this year as well! There is something for everyone to enjoy during our fall festival season. If you want to come and enjoy the music and the market\, those are open to the public for free.  Shade’s of Autumn offers you family fun\, pick your own pumpkins\, fresh produce\, a petting zoo\, apple cider donuts\, a bakery\, our Farmtractions Theme Park\, and much more.  View more information on our fall festival here.  Follow our Facebook page for our most recent updates.
URL:https://stadesfarmandmarket.com/event/shades-of-autumn-2021-oct-10/
END:VEVENT
BEGIN:VEVENT
DTSTART;VALUE=DATE:20211009
DTEND;VALUE=DATE:20211010
DTSTAMP:20260423T061758
CREATED:20200802T070338Z
LAST-MODIFIED:20210226T191504Z
UID:3371-1633737600-1633823999@stadesfarmandmarket.com
SUMMARY:Shades of Autumn Fall Festival 2021
DESCRIPTION:Shades of Autumn 2021 is eight weekends of family fun beginning on Saturday\, September 11\, 2021\, through Sunday\, October 31\, 2021. We added several new attractions last year and have surprises for you this year as well! There is something for everyone to enjoy during our fall festival season. If you want to come and enjoy the music and the market\, those are open to the public for free.  Shade’s of Autumn offers you family fun\, pick your own pumpkins\, fresh produce\, a petting zoo\, apple cider donuts\, a bakery\, our Farmtractions Theme Park\, and much more.  View more information on our fall festival here.  Follow our Facebook page for our most recent updates.
URL:https://stadesfarmandmarket.com/event/shades-of-autumn-2021-oct-9/
END:VEVENT
BEGIN:VEVENT
DTSTART;VALUE=DATE:20211008
DTEND;VALUE=DATE:20211009
DTSTAMP:20260423T061758
CREATED:20210226T183351Z
LAST-MODIFIED:20210226T191715Z
UID:4253-1633651200-1633737599@stadesfarmandmarket.com
SUMMARY:Shades of Autumn Fall Festival 2021
DESCRIPTION:Shades of Autumn 2021 is eight weekends of family fun beginning on Saturday\, September 11\, 2021\, through Sunday\, October 31\, 2021. We added several new attractions last year and have surprises for you this year as well! There is something for everyone to enjoy during our fall festival season. If you want to come and enjoy the music and the market\, those are open to the public for free.  Shade’s of Autumn offers you family fun\, pick your own pumpkins\, fresh produce\, a petting zoo\, apple cider donuts\, a bakery\, our Farmtractions Theme Park\, and much more.  View more information on our fall festival here.  Follow our Facebook page for our most recent updates.
URL:https://stadesfarmandmarket.com/event/shades-of-autumn-2021-oct-8/
END:VEVENT
BEGIN:VEVENT
DTSTART;VALUE=DATE:20211003
DTEND;VALUE=DATE:20211004
DTSTAMP:20260423T061758
CREATED:20200802T070341Z
LAST-MODIFIED:20210301T173546Z
UID:3372-1633219200-1633305599@stadesfarmandmarket.com
SUMMARY:Shades of Autumn Fall Festival 2021
DESCRIPTION:Shades of Autumn 2021 is eight weekends of family fun beginning on Saturday\, September 11\, 2021\, through Sunday\, October 31\, 2021. We added several new attractions last year and have surprises for you this year as well! There is something for everyone to enjoy during our fall festival season. If you want to come and enjoy the music and the market\, those are open to the public for free.  Shade’s of Autumn offers you family fun\, pick your own pumpkins\, fresh produce\, a petting zoo\, apple cider donuts\, a bakery\, our Farmtractions Theme Park\, and much more.  View more information on our fall festival here.  Follow our Facebook page for our most recent updates.
URL:https://stadesfarmandmarket.com/event/shades-of-autumn-2021-oct-3/
END:VEVENT
BEGIN:VEVENT
DTSTART;VALUE=DATE:20211002
DTEND;VALUE=DATE:20211003
DTSTAMP:20260423T061758
CREATED:20200802T070345Z
LAST-MODIFIED:20210301T173741Z
UID:3373-1633132800-1633219199@stadesfarmandmarket.com
SUMMARY:Shades of Autumn Fall Festival 2021
DESCRIPTION:Shades of Autumn 2021 is eight weekends of family fun beginning on Saturday\, September 11\, 2021\, through Sunday\, October 31\, 2021. We added several new attractions last year and have surprises for you this year as well! There is something for everyone to enjoy during our fall festival season. If you want to come and enjoy the music and the market\, those are open to the public for free.  Shade’s of Autumn offers you family fun\, pick your own pumpkins\, fresh produce\, a petting zoo\, apple cider donuts\, a bakery\, our Farmtractions Theme Park\, and much more.  View more information on our fall festival here.  Follow our Facebook page for our most recent updates.
URL:https://stadesfarmandmarket.com/event/shades-of-autumn-2021-oct-2/
END:VEVENT
BEGIN:VEVENT
DTSTART;VALUE=DATE:20211001
DTEND;VALUE=DATE:20211002
DTSTAMP:20260423T061758
CREATED:20210226T183219Z
LAST-MODIFIED:20210301T173831Z
UID:4251-1633046400-1633132799@stadesfarmandmarket.com
SUMMARY:Shades of Autumn Fall Festival 2021
DESCRIPTION:Shades of Autumn 2021 is eight weekends of family fun beginning on Saturday\, September 11\, 2021\, through Sunday\, October 31\, 2021. We added several new attractions last year and have surprises for you this year as well! There is something for everyone to enjoy during our fall festival season. If you want to come and enjoy the music and the market\, those are open to the public for free.  Shade’s of Autumn offers you family fun\, pick your own pumpkins\, fresh produce\, a petting zoo\, apple cider donuts\, a bakery\, our Farmtractions Theme Park\, and much more.  View more information on our fall festival here.  Follow our Facebook page for our most recent updates.
URL:https://stadesfarmandmarket.com/event/shades-of-autumn-2021-oct-1/
END:VEVENT
BEGIN:VEVENT
DTSTART;VALUE=DATE:20210926
DTEND;VALUE=DATE:20210927
DTSTAMP:20260423T061758
CREATED:20200802T071618Z
LAST-MODIFIED:20210301T173924Z
UID:3396-1632614400-1632700799@stadesfarmandmarket.com
SUMMARY:Shades of Autumn 2021 & Annual Arts & Crafts Show
DESCRIPTION:Shades of Autumn 2021 is eight weekends of family fun beginning on Saturday\, September 11\, 2021\, through Sunday\, October 31\, 2021. We added several new attractions last year and have surprises for you this year as well! There is something for everyone to enjoy during our fall festival season. If you want to come and enjoy the music and the market\, those are open to the public for free.  Shade’s of Autumn offers you family fun\, pick your own pumpkins\, fresh produce\, a petting zoo\, apple cider donuts\, a bakery\, our Farmtractions Theme Park\, and much more.  View more information on our fall festival here.  Follow our Facebook page for our most recent updates.
URL:https://stadesfarmandmarket.com/event/shades-of-autumn-2021-sept-26/
END:VEVENT
BEGIN:VEVENT
DTSTART;VALUE=DATE:20210925
DTEND;VALUE=DATE:20210926
DTSTAMP:20260423T061758
CREATED:20200802T071622Z
LAST-MODIFIED:20210301T174017Z
UID:3394-1632528000-1632614399@stadesfarmandmarket.com
SUMMARY:Shades of Autumn 2021 & Annual Arts & Crafts Show
DESCRIPTION:Shades of Autumn 2021 is eight weekends of family fun beginning on Saturday\, September 11\, 2021\, through Sunday\, October 31\, 2021. We added several new attractions last year and have surprises for you this year as well! There is something for everyone to enjoy during our fall festival season. If you want to come and enjoy the music and the market\, those are open to the public for free.  Shade’s of Autumn offers you family fun\, pick your own pumpkins\, fresh produce\, a petting zoo\, apple cider donuts\, a bakery\, our Farmtractions Theme Park\, and much more.  View more information on our fall festival here.  Follow our Facebook page for our most recent updates.
URL:https://stadesfarmandmarket.com/event/shades-of-autumn-2021-sept-25/
END:VEVENT
BEGIN:VEVENT
DTSTART;VALUE=DATE:20210919
DTEND;VALUE=DATE:20210920
DTSTAMP:20260423T061758
CREATED:20200802T071626Z
LAST-MODIFIED:20210226T192219Z
UID:3397-1632009600-1632095999@stadesfarmandmarket.com
SUMMARY:Shades of Autumn 2021 & Annual Classic Car Show
DESCRIPTION:Shades of Autumn 2021 is eight weekends of family fun beginning on Saturday\, September 11\, 2021\, through Sunday\, October 31\, 2021. We added several new attractions last year and have surprises for you this year as well! There is something for everyone to enjoy during our fall festival season. If you want to come and enjoy the music and the market\, those are open to the public for free.  Shade’s of Autumn offers you family fun\, pick your own pumpkins\, fresh produce\, a petting zoo\, apple cider donuts\, a bakery\, our Farmtractions Theme Park\, and much more.  View more information on our fall festival here.  Follow our Facebook page for our most recent updates.
URL:https://stadesfarmandmarket.com/event/shades-of-autumn-2021-sept-19/
END:VEVENT
BEGIN:VEVENT
DTSTART;VALUE=DATE:20210918
DTEND;VALUE=DATE:20210919
DTSTAMP:20260423T061758
CREATED:20200802T071628Z
LAST-MODIFIED:20210226T192258Z
UID:3398-1631923200-1632009599@stadesfarmandmarket.com
SUMMARY:Shades of Autumn 2021 & Annual Classic Car Show
DESCRIPTION:Shades of Autumn 2021 is eight weekends of family fun beginning on Saturday\, September 11\, 2021\, through Sunday\, October 31\, 2021. We added several new attractions last year and have surprises for you this year as well! There is something for everyone to enjoy during our fall festival season. If you want to come and enjoy the music and the market\, those are open to the public for free.  Shade’s of Autumn offers you family fun\, pick your own pumpkins\, fresh produce\, a petting zoo\, apple cider donuts\, a bakery\, our Farmtractions Theme Park\, and much more.  View more information on our fall festival here.  Follow our Facebook page for our most recent updates.
URL:https://stadesfarmandmarket.com/event/shades-of-autumn-2021-sept-18/
END:VEVENT
BEGIN:VEVENT
DTSTART;VALUE=DATE:20210912
DTEND;VALUE=DATE:20210913
DTSTAMP:20260423T061758
CREATED:20200802T071632Z
LAST-MODIFIED:20210301T174105Z
UID:3399-1631404800-1631491199@stadesfarmandmarket.com
SUMMARY:Shades of Autumn 2021 Grandparents Day (Grandparents Admitted Free)
DESCRIPTION:Shades of Autumn 2021 is eight weekends of family fun beginning on Saturday\, September 11\, 2021\, through Sunday\, October 31\, 2021. We added several new attractions last year and have surprises for you this year as well! There is something for everyone to enjoy during our fall festival season. If you want to come and enjoy the music and the market\, those are open to the public for free.  Shade’s of Autumn offers you family fun\, pick your own pumpkins\, fresh produce\, a petting zoo\, apple cider donuts\, a bakery\, our Farmtractions Theme Park\, and much more.  View more information on our fall festival here.  Follow our Facebook page for our most recent updates.
URL:https://stadesfarmandmarket.com/event/shades-of-autumn-2021-sept-12/
END:VEVENT
BEGIN:VEVENT
DTSTART;VALUE=DATE:20210911
DTEND;VALUE=DATE:20210912
DTSTAMP:20260423T061758
CREATED:20200802T071840Z
LAST-MODIFIED:20210301T174154Z
UID:3420-1631318400-1631404799@stadesfarmandmarket.com
SUMMARY:Shades of Autumn Fall Festival 2021
DESCRIPTION:Shades of Autumn 2021 is eight weekends of family fun beginning on Saturday\, September 11\, 2021\, through Sunday\, October 31\, 2021. We added several new attractions last year and have surprises for you this year as well! There is something for everyone to enjoy during our fall festival season. If you want to come and enjoy the music and the market\, those are open to the public for free.  Shade’s of Autumn offers you family fun\, pick your own pumpkins\, fresh produce\, a petting zoo\, apple cider donuts\, a bakery\, our Farmtractions Theme Park\, and much more.  View more information on our fall festival here.  Follow our Facebook page for our most recent updates.
URL:https://stadesfarmandmarket.com/event/shades-of-autumn-2021-sept-11/
END:VEVENT
BEGIN:VEVENT
DTSTART;TZID=UTC:20210530T090000
DTEND;TZID=UTC:20210530T180000
DTSTAMP:20260423T061758
CREATED:20210225T200512Z
LAST-MODIFIED:20210226T193156Z
UID:4230-1622365200-1622397600@stadesfarmandmarket.com
SUMMARY:Market Opening Weekend With Cider Donuts
DESCRIPTION:Please join us for opening weekend!  Receive one of our famous Apple Cider Donuts FREE! (limit one per person)  Come grab all of your favorites\, along with some new items that are available in our farm market.  Please watch our Facebook page for our most recent updates daily. \nOur doors will open at 9 am. \nMarket hours are 9 am – 6 pm\, daily.
URL:https://stadesfarmandmarket.com/event/stades-farm-market-opening-weekend-2/
END:VEVENT
BEGIN:VEVENT
DTSTART;TZID=UTC:20210529T090000
DTEND;TZID=UTC:20210529T180000
DTSTAMP:20260423T061758
CREATED:20210225T200423Z
LAST-MODIFIED:20210225T200423Z
UID:4228-1622278800-1622311200@stadesfarmandmarket.com
SUMMARY:Stade's Farm & Market Opening Weekend
DESCRIPTION:Please join us for opening weekend!  Receive one of our famous Apple Cider Donuts FREE! (limit one per person)  Come grab all of your favorites\, along with some new items that are available. \nOur doors will open at 9 am. \nMarket hours are 9 am – 6 pm\, daily. \n 
URL:https://stadesfarmandmarket.com/event/stades-farm-market-opening-weekend/
END:VEVENT
END:VCALENDAR